BEGIN:VCALENDAR
VERSION:2.0
PRODID:-//Jesuit Urumuri Centre - ECPv5.16.4//NONSGML v1.0//EN
CALSCALE:GREGORIAN
METHOD:PUBLISH
X-WR-CALNAME:Jesuit Urumuri Centre
X-ORIGINAL-URL:https://juc-rwb.org
X-WR-CALDESC:Events for Jesuit Urumuri Centre
BEGIN:VTIMEZONE
TZID:UTC
BEGIN:STANDARD
TZOFFSETFROM:+0000
TZOFFSETTO:+0000
TZNAME:UTC
DTSTART:20200101T000000
END:STANDARD
END:VTIMEZONE
BEGIN:VEVENT
DTSTART;TZID=UTC:20200414T080000
DTEND;TZID=UTC:20200418T170000
DTSTAMP:20260422T155142
CREATED:20200328T192829Z
LAST-MODIFIED:20200328T195837Z
UID:2272-1586851200-1587229200@juc-rwb.org
SUMMARY:Diocesan Commission  Justice and Peace (CDJP) – Nyundo
DESCRIPTION:This will take place from the 14th -18th April 2020 \nShare this...FacebookTwitterLinkedinWhatsappEmailPrint
URL:https://juc-rwb.org/event/diocesan-commission-justice-and-peace-cdjp-nyundo/
CATEGORIES:Calendar of Events
END:VEVENT
END:VCALENDAR