BEGIN:VCALENDAR
VERSION:2.0
PRODID:-//Jesuit Urumuri Centre - ECPv5.16.4//NONSGML v1.0//EN
CALSCALE:GREGORIAN
METHOD:PUBLISH
X-WR-CALNAME:Jesuit Urumuri Centre
X-ORIGINAL-URL:https://juc-rwb.org
X-WR-CALDESC:Events for Jesuit Urumuri Centre
BEGIN:VTIMEZONE
TZID:UTC
BEGIN:STANDARD
TZOFFSETFROM:+0000
TZOFFSETTO:+0000
TZNAME:UTC
DTSTART:20200101T000000
END:STANDARD
END:VTIMEZONE
BEGIN:VEVENT
DTSTART;TZID=UTC:20200723T080000
DTEND;TZID=UTC:20200731T170000
DTSTAMP:20260419T193115
CREATED:20200715T143717Z
LAST-MODIFIED:20200715T145734Z
UID:2658-1595491200-1596214800@juc-rwb.org
SUMMARY:Formation workshop CDJP – Butare
DESCRIPTION:Catholic Social Teaching for members of the Justice and Peace commission in Butare Doicese \nShare this...FacebookTwitterLinkedinWhatsappEmailPrint
URL:https://juc-rwb.org/event/formation-workshop-cdjp-butare/
CATEGORIES:Calendar of Events
END:VEVENT
END:VCALENDAR