BEGIN:VCALENDAR
VERSION:2.0
PRODID:-//Jesuit Urumuri Centre - ECPv5.16.4//NONSGML v1.0//EN
CALSCALE:GREGORIAN
METHOD:PUBLISH
X-WR-CALNAME:Jesuit Urumuri Centre
X-ORIGINAL-URL:https://juc-rwb.org
X-WR-CALDESC:Events for Jesuit Urumuri Centre
BEGIN:VTIMEZONE
TZID:UTC
BEGIN:STANDARD
TZOFFSETFROM:+0000
TZOFFSETTO:+0000
TZNAME:UTC
DTSTART:20200101T000000
END:STANDARD
END:VTIMEZONE
BEGIN:VEVENT
DTSTART;TZID=UTC:20200824T080000
DTEND;TZID=UTC:20200828T170000
DTSTAMP:20260420T062609
CREATED:20200715T150626Z
LAST-MODIFIED:20200826T093223Z
UID:2670-1598256000-1598634000@juc-rwb.org
SUMMARY:Formation workshop CDJP – Gikongoro
DESCRIPTION:Catholic Social Teaching for members of the Justice and Peace commission in Gikongoro. \n  \nRead about this workshop here: GIKONGORO CATHOLIC DIOCESE TAKES ON THE STUDY OF CATHOLIC SOCIAL TEACHING \nShare this...FacebookTwitterLinkedinWhatsappEmailPrint
URL:https://juc-rwb.org/event/formation-workshop-cdjp-gikongoro/
CATEGORIES:Calendar of Events
END:VEVENT
END:VCALENDAR