BEGIN:VCALENDAR
VERSION:2.0
PRODID:-//Jesuit Urumuri Centre - ECPv5.16.4//NONSGML v1.0//EN
CALSCALE:GREGORIAN
METHOD:PUBLISH
X-WR-CALNAME:Jesuit Urumuri Centre
X-ORIGINAL-URL:https://juc-rwb.org
X-WR-CALDESC:Events for Jesuit Urumuri Centre
BEGIN:VTIMEZONE
TZID:UTC
BEGIN:STANDARD
TZOFFSETFROM:+0000
TZOFFSETTO:+0000
TZNAME:UTC
DTSTART:20200101T000000
END:STANDARD
END:VTIMEZONE
BEGIN:VEVENT
DTSTART;TZID=UTC:20200810T080000
DTEND;TZID=UTC:20200814T170000
DTSTAMP:20260420T090042
CREATED:20200715T150229Z
LAST-MODIFIED:20200715T150229Z
UID:2666-1597046400-1597424400@juc-rwb.org
SUMMARY:Formation workshop CDJP – Kabgayi
DESCRIPTION:Catholic Social Teaching for members of the Justice and Peace commission in Kabgayi. \nShare this...FacebookTwitterLinkedinWhatsappEmailPrint
URL:https://juc-rwb.org/event/formation-workshop-cdjp-kabgayi/
CATEGORIES:Calendar of Events
END:VEVENT
END:VCALENDAR