BEGIN:VCALENDAR
VERSION:2.0
PRODID:-//Jesuit Urumuri Centre - ECPv5.16.4//NONSGML v1.0//EN
CALSCALE:GREGORIAN
METHOD:PUBLISH
X-WR-CALNAME:Jesuit Urumuri Centre
X-ORIGINAL-URL:https://juc-rwb.org
X-WR-CALDESC:Events for Jesuit Urumuri Centre
BEGIN:VTIMEZONE
TZID:UTC
BEGIN:STANDARD
TZOFFSETFROM:+0000
TZOFFSETTO:+0000
TZNAME:UTC
DTSTART:20200101T000000
END:STANDARD
END:VTIMEZONE
BEGIN:VEVENT
DTSTART;TZID=UTC:20200713T080000
DTEND;TZID=UTC:20200717T170000
DTSTAMP:20260422T125239
CREATED:20200715T142746Z
LAST-MODIFIED:20200715T145605Z
UID:2654-1594627200-1595005200@juc-rwb.org
SUMMARY:Formation workshop CDJP  – Byumba
DESCRIPTION:  \n  \n  \nCatholic Social Teaching for members of the Justice and Peace commission in the Byumba diocese. \nRead about how the first day of training went here; \nhttp://juc-rwb.org/catholic-social-teaching-training-kicks-off-in-byumba-diocese/ \nShare this...FacebookTwitterLinkedinWhatsappEmailPrint
URL:https://juc-rwb.org/event/formation-workshop-on-catholic-social-teaching-justice-and-peace-commission-in-the-byumba-diocese-byumba/
CATEGORIES:Calendar of Events
END:VEVENT
END:VCALENDAR