BEGIN:VCALENDAR
VERSION:2.0
PRODID:-//Jesuit Urumuri Centre - ECPv5.16.4//NONSGML v1.0//EN
CALSCALE:GREGORIAN
METHOD:PUBLISH
X-WR-CALNAME:Jesuit Urumuri Centre
X-ORIGINAL-URL:https://juc-rwb.org
X-WR-CALDESC:Events for Jesuit Urumuri Centre
BEGIN:VTIMEZONE
TZID:UTC
BEGIN:STANDARD
TZOFFSETFROM:+0000
TZOFFSETTO:+0000
TZNAME:UTC
DTSTART:20200101T000000
END:STANDARD
END:VTIMEZONE
BEGIN:VEVENT
DTSTART;TZID=UTC:20200329T090000
DTEND;TZID=UTC:20200329T090000
DTSTAMP:20260422T183719
CREATED:20200324T103924Z
LAST-MODIFIED:20200328T210516Z
UID:2218-1585472400-1585472400@juc-rwb.org
SUMMARY:Ignatian Spirituality & Leadership Program for  the Young Proffessionals
DESCRIPTION:Jesuit Urumuri Centre is pleased to invite all young professionals for a monthly event entitled “Ignatian Spirituality and Leadership Program for Young Professionals”. \nThe meetings will provide an environment for sharing experiences\, reflecting and learning about complex issues affecting the world they live in and coming up with practical solutions based on Christian values and moral reasoning. \nShare this...FacebookTwitterLinkedinWhatsappEmailPrint
URL:https://juc-rwb.org/event/ignatian-spirituality-leadership-program-for-young-proffessionals/
CATEGORIES:Calendar of Events
END:VEVENT
END:VCALENDAR