BEGIN:VCALENDAR
VERSION:2.0
PRODID:-//Jesuit Urumuri Centre - ECPv5.16.4//NONSGML v1.0//EN
CALSCALE:GREGORIAN
METHOD:PUBLISH
X-WR-CALNAME:Jesuit Urumuri Centre
X-ORIGINAL-URL:https://juc-rwb.org
X-WR-CALDESC:Events for Jesuit Urumuri Centre
BEGIN:VTIMEZONE
TZID:UTC
BEGIN:STANDARD
TZOFFSETFROM:+0000
TZOFFSETTO:+0000
TZNAME:UTC
DTSTART:20200101T000000
END:STANDARD
END:VTIMEZONE
BEGIN:VEVENT
DTSTART;TZID=UTC:20201201T080000
DTEND;TZID=UTC:20201212T170000
DTSTAMP:20260420T061230
CREATED:20200826T092832Z
LAST-MODIFIED:20200826T092832Z
UID:2761-1606809600-1607792400@juc-rwb.org
SUMMARY:JUC Administrative Retreat and Annual Evaluation
DESCRIPTION:Share this...FacebookTwitterLinkedinWhatsappEmailPrint
URL:https://juc-rwb.org/event/juc-administrative-retreat-and-annual-evaluation/
CATEGORIES:Calendar of Events
END:VEVENT
END:VCALENDAR