BEGIN:VCALENDAR
VERSION:2.0
PRODID:-//Jesuit Urumuri Centre - ECPv5.16.4//NONSGML v1.0//EN
CALSCALE:GREGORIAN
METHOD:PUBLISH
X-WR-CALNAME:Jesuit Urumuri Centre
X-ORIGINAL-URL:https://juc-rwb.org
X-WR-CALDESC:Events for Jesuit Urumuri Centre
BEGIN:VTIMEZONE
TZID:UTC
BEGIN:STANDARD
TZOFFSETFROM:+0000
TZOFFSETTO:+0000
TZNAME:UTC
DTSTART:20200101T000000
END:STANDARD
END:VTIMEZONE
BEGIN:VEVENT
DTSTART;VALUE=DATE:20200907
DTEND;VALUE=DATE:20200908
DTSTAMP:20260420T051329
CREATED:20200826T091550Z
LAST-MODIFIED:20200826T091550Z
UID:2750-1599436800-1599523199@juc-rwb.org
SUMMARY:Launching of Youth Entrepreneurship Program
DESCRIPTION:Share this...FacebookTwitterLinkedinWhatsappEmailPrint
URL:https://juc-rwb.org/event/launching-of-youth-entrepreneurship-program/
LOCATION:Jesuit Urumuri Centre
CATEGORIES:Calendar of Events
END:VEVENT
END:VCALENDAR