BEGIN:VCALENDAR
VERSION:2.0
PRODID:-//Jesuit Urumuri Centre - ECPv5.16.4//NONSGML v1.0//EN
CALSCALE:GREGORIAN
METHOD:PUBLISH
X-WR-CALNAME:Jesuit Urumuri Centre
X-ORIGINAL-URL:https://juc-rwb.org
X-WR-CALDESC:Events for Jesuit Urumuri Centre
BEGIN:VTIMEZONE
TZID:UTC
BEGIN:STANDARD
TZOFFSETFROM:+0000
TZOFFSETTO:+0000
TZNAME:UTC
DTSTART:20200101T000000
END:STANDARD
END:VTIMEZONE
BEGIN:VEVENT
DTSTART;VALUE=DATE:20201225
DTEND;VALUE=DATE:20210106
DTSTAMP:20260420T073317
CREATED:20201223T143251Z
LAST-MODIFIED:20201223T143251Z
UID:3026-1608854400-1609891199@juc-rwb.org
SUMMARY:Merry Christmas and Happy New Year of 2021!
DESCRIPTION:We would like to wish our partners\, friends and well wishers a very merry Christmas and a blessed new year of 2021!!\nShare this...FacebookTwitterLinkedinWhatsappEmailPrint
URL:https://juc-rwb.org/event/merry-christmas-and-happy-new-year-of-2021/
CATEGORIES:Calendar of Events
ATTACH;FMTTYPE=image/png:https://juc-rwb.org/wp-content/uploads/2020/12/JUC-Christmas-card-2020.png
END:VEVENT
END:VCALENDAR